BEGIN:VCALENDAR
PRODID:-//Det Danske Spejderkorps//NONSGML Gruppeweb//EN
VERSION:2.0
CALSCALE:GREGORIAN
X-PUBLISHED-TTL:PT1H
X-WR-CALNAME:Trop
METHOD:PUBLISH
BEGIN:VEVENT
UID:gruppeweb.dk:1304:event:1082
DTSTAMP:20260420T062021Z
LAST-MODIFIED:20240912T201851Z
SUMMARY:Spejdermøde - troppen
DESCRIPTION:\n
URL:https://blackfoot.dk/begivenhed/spejdermoede-troppen-13
DTSTART:20250423T163000Z
DTEND:20250423T190000Z
LOCATION:Blackfoot Bloustrød\, Sandholmgårdsvej 29\, 3450 Allerød
END:VEVENT
BEGIN:VEVENT
UID:gruppeweb.dk:1304:event:1081
DTSTAMP:20260420T062021Z
LAST-MODIFIED:20240912T201851Z
SUMMARY:Spejdermøde - troppen
DESCRIPTION:\n
URL:https://blackfoot.dk/begivenhed/spejdermoede-troppen-12
DTSTART:20250430T163000Z
DTEND:20250430T190000Z
LOCATION:Blackfoot Bloustrød\, Sandholmgårdsvej 29\, 3450 Allerød
END:VEVENT
BEGIN:VEVENT
UID:gruppeweb.dk:1304:event:1191
DTSTAMP:20260420T062021Z
LAST-MODIFIED:20260211T135059Z
SUMMARY:Forårsturnering '25
DESCRIPTION:Så er tilmeldingen åben for Forårsturneringen 2025 - årets 
 helt store  \npatruljetur\, hvor vi skal dyste med og mod de andre patrulj
 er i divisionen.\n\n\n
URL:https://blackfoot.dk/begivenhed/foraarsturnering-25
DTSTART:20250502T185100Z
DTEND:20250504T185100Z
LOCATION:Blackfoot Bloustrød\, Sandholmgårdsvej 29\, 3450 Allerød
END:VEVENT
BEGIN:VEVENT
UID:gruppeweb.dk:1304:event:1080
DTSTAMP:20260420T062021Z
LAST-MODIFIED:20240912T201851Z
SUMMARY:Spejdermøde - troppen
DESCRIPTION:\n
URL:https://blackfoot.dk/begivenhed/spejdermoede-troppen-11
DTSTART:20250507T163000Z
DTEND:20250507T190000Z
LOCATION:Blackfoot Bloustrød\, Sandholmgårdsvej 29\, 3450 Allerød
END:VEVENT
BEGIN:VEVENT
UID:gruppeweb.dk:1304:event:1079
DTSTAMP:20260420T062021Z
LAST-MODIFIED:20240912T201851Z
SUMMARY:Spejdermøde - troppen
DESCRIPTION:\n
URL:https://blackfoot.dk/begivenhed/spejdermoede-troppen-10
DTSTART:20250514T163000Z
DTEND:20250514T190000Z
LOCATION:Blackfoot Bloustrød\, Sandholmgårdsvej 29\, 3450 Allerød
END:VEVENT
BEGIN:VEVENT
UID:gruppeweb.dk:1304:event:1078
DTSTAMP:20260420T062021Z
LAST-MODIFIED:20240912T201851Z
SUMMARY:Spejdermøde - troppen
DESCRIPTION:\n
URL:https://blackfoot.dk/begivenhed/spejdermoede-troppen-9
DTSTART:20250521T163000Z
DTEND:20250521T190000Z
LOCATION:Blackfoot Bloustrød\, Sandholmgårdsvej 29\, 3450 Allerød
END:VEVENT
BEGIN:VEVENT
UID:gruppeweb.dk:1304:event:1077
DTSTAMP:20260420T062021Z
LAST-MODIFIED:20240912T201851Z
SUMMARY:Spejdermøde - troppen
DESCRIPTION:\n
URL:https://blackfoot.dk/begivenhed/spejdermoede-troppen-8
DTSTART:20250528T163000Z
DTEND:20250528T190000Z
LOCATION:Blackfoot Bloustrød\, Sandholmgårdsvej 29\, 3450 Allerød
END:VEVENT
BEGIN:VEVENT
UID:gruppeweb.dk:1304:event:1076
DTSTAMP:20260420T062021Z
LAST-MODIFIED:20240912T201851Z
SUMMARY:Spejdermøde - troppen
DESCRIPTION:\n
URL:https://blackfoot.dk/begivenhed/spejdermoede-troppen-7
DTSTART:20250604T163000Z
DTEND:20250604T190000Z
LOCATION:Blackfoot Bloustrød\, Sandholmgårdsvej 29\, 3450 Allerød
END:VEVENT
BEGIN:VEVENT
UID:gruppeweb.dk:1304:event:1209
DTSTAMP:20260420T062021Z
LAST-MODIFIED:20260211T135017Z
SUMMARY:Sommertur '25 - troppen (Pinsen)
DESCRIPTION:Årets pinsetur for troppen går til Vesterhavet\, hvor vi skal
  vandre med  \nrygsæk igennem klitter\, lyng\, strand og fyreskov.\n\nDet
  bliver FANTASTISK.\n\nMere info følger...\n\n
URL:https://blackfoot.dk/begivenhed/sommertur-25-troppen-pinsen
DTSTART:20250606T130000Z
DTEND:20250609T150000Z
LOCATION:Blackfoot Bloustrød\, Sandholmgårdsvej 29\, 3450 Allerød
END:VEVENT
BEGIN:VEVENT
UID:gruppeweb.dk:1304:event:1075
DTSTAMP:20260420T062021Z
LAST-MODIFIED:20240912T201851Z
SUMMARY:Spejdermøde - troppen
DESCRIPTION:\n
URL:https://blackfoot.dk/begivenhed/spejdermoede-troppen-6
DTSTART:20250611T163000Z
DTEND:20250611T190000Z
LOCATION:Blackfoot Bloustrød\, Sandholmgårdsvej 29\, 3450 Allerød
END:VEVENT
BEGIN:VEVENT
UID:gruppeweb.dk:1304:event:1074
DTSTAMP:20260420T062021Z
LAST-MODIFIED:20240912T201851Z
SUMMARY:Spejdermøde - troppen
DESCRIPTION:\n
URL:https://blackfoot.dk/begivenhed/spejdermoede-troppen-5
DTSTART:20250618T163000Z
DTEND:20250618T190000Z
LOCATION:Blackfoot Bloustrød\, Sandholmgårdsvej 29\, 3450 Allerød
END:VEVENT
BEGIN:VEVENT
UID:gruppeweb.dk:1304:event:1194
DTSTAMP:20260420T062021Z
LAST-MODIFIED:20250529T130620Z
SUMMARY:Sommerlejr 2025 på THURØBUND
DESCRIPTION:Kære alle mikro\, mini\, junior og\ntrops-spejdere\n\n\nVi\nin
 viterer jer til sommerlejr på THURØBUND SPEJDERCENTER på Thurø syd for
 \nSvendborg. Thurøbund er Danmarks eneste sejlende spejdercenter.\n\n\nVi
 \nvil gerne give alle Blackfoot spejdere denne unikke spejderoplevelse\, a
 t\ntilbringe årets sommerlejr på et spejdercenter specialiseret  i sejl
 ads.  \nSpejdercenterets aktiviteter er\ntilrettelagt så hverken spejdere
  eller ledere behøver at have kendskab til  \nat\nsejle i forvejen. Cente
 rets dygtige medarbejdere instruerer og hjælper til  \nmed\nsejladsen. Se
  mere på  www.tsc.dk [1]\n\n\n\nEn center sommerlejr er en uge med spæn
 dende aktiviteter\, fælles  \narrangementer og mulighed for at møde nye 
 spejdervenner fra andre  \nspejdergrupper i Danmark. Udover sejlads og van
 daktiviteter skal vi opbygge  \nlejrplads\, sove i telt og lave god mad p
 å bål. Om aftenen er der hygge og  \nlejrbål sammen med de mange andre 
 spejdere på lejren og i kiosken kan du  \nkøbe snacks og slik.\nVi glæd
 er os rigtig meget.\nSpejderhilsen fra alle lederne\n\n\n\n[1] http://www.
 tsc.dk/\n
URL:https://blackfoot.dk/begivenhed/sommerlejr-2025-paa-thuroebund
DTSTART:20250705T070000Z
DTEND:20250709T140000Z
LOCATION:Thurøbund Spejdercenter\, Grastenvej 204C\, 5700 Svendborg
END:VEVENT
BEGIN:VEVENT
UID:gruppeweb.dk:1304:event:1223
DTSTAMP:20260420T062021Z
LAST-MODIFIED:20250910T191522Z
SUMMARY:Allerødlejr 2025
DESCRIPTION:Kære spejder!\n\n\n\n\nFor to år siden holdt vi en super fæl
 les spejderweekend for alle spejdere i  \nAllerød Kommune og nu gør vi d
 et igen. Vi skal mødes med vores venner fra  \nde andre spejdergrupper og
  have en sjov\, aktiv og hyggelig weekend. Vi skal  \nopleve\, hvordan man
 ge spejdere sammen kan få en weekend til at bliver fyldt  \nmed sjove og 
 udfordrende oplevelser i naturen krydret med lejrbål\, sang og  \nhygge -
  på en en bæredygtigt og klimavenligt måde. Og det er jo helt  \nperfek
 t\, at vi til sommer skal bo i lejr på Spejdernes Lejr netop med alle  \n
 spejderne fra Allerød Kommune. Fedt.  Se mere i vedhæftede invitation  
 \n:-) \n\n\n\n
URL:https://blackfoot.dk/begivenhed/alleroedlejr-2025
DTSTART:20250912T160000Z
DTEND:20250914T100000Z
LOCATION:Blackfoot Bloustrød\, Sandholmgårdsvej 29\, 3450 Allerød
END:VEVENT
BEGIN:VEVENT
UID:gruppeweb.dk:1304:event:1240
DTSTAMP:20260420T062021Z
LAST-MODIFIED:20251003T060458Z
SUMMARY:Betaling for Fenris-tilmelding
DESCRIPTION:Arrangement KUN til efterbetaling for den allerede gennemførte
  tilmelding  \ntil Fenris-løbet.\n\nDet er ikke muligt at eftertilmelde y
 derligere deltagere.\n\n\n
URL:https://blackfoot.dk/begivenhed/betaling-fenris-tilmelding
DTSTART:20251025T051500Z
DTEND:20251026T061400Z
LOCATION:Blackfoot Bloustrød\, Sandholmgårdsvej 29\, 3450 Allerød
END:VEVENT
BEGIN:VEVENT
UID:gruppeweb.dk:1304:event:1249
DTSTAMP:20260420T062021Z
LAST-MODIFIED:20251016T200004Z
SUMMARY:Trops-divi-efterårsarrangement '25
DESCRIPTION:Årets efterårsarrangement for alle tropsspejdere i Ravnsholt 
 Division (dvs.  \nmed de andre spejdere i alderen 12-16 år fra Farum\, Al
 lerød og Birkerød)  \nafholdes over et døgn i weekenden 1. - 2. novembe
 r. Et stille og roligt  \narrangement hvor vi skal på forskellige løb og
  om aftenen samt hygge og mad  \npå Stavnsholtskolen i Farum med nye og g
 amle spejdervenner.\nOvernatning foregår indendørs og der bliver rig mul
 ighed for at have det  \nsjovt med de andre i patruljen og spejdere fra de
  andre troppe. \n\n
URL:https://blackfoot.dk/begivenhed/trops-divi-efteraarsarrangement-25
DTSTART:20251101T090000Z
DTEND:20251102T093000Z
LOCATION:Blackfoot Bloustrød\, Sandholmgårdsvej 29\, 3450 Allerød
END:VEVENT
BEGIN:VEVENT
UID:gruppeweb.dk:1304:event:1239
DTSTAMP:20260420T062021Z
LAST-MODIFIED:20251009T160138Z
SUMMARY:Cicero ´25
DESCRIPTION:Igen i år er der blandt spejderne interesse for at deltage i C
 icero  \nløbet så lad os se om vi kan samle en patrulje. Alle deltagere
  på Cicero  \nskal dog være mellem 13 og 17 år\, i patruljer á 3-5 per
 soner. \n\nLøbet er ofte urbant\, sjovt og intenst med fokus på histori
 en\, og brug af  \nmoderne teknik frem for mange kilometer med kort og kom
 pas.\n\nTransport er ikke inkluderet i prisen. Arrangementet afholdes øst
  for  \nStorebælt. Start-lokation er endnu hemmelig men vi satser på at 
 kunne  \nmønstre forældre til hjælpe med kørsel :)\nLæs mere om løbe
 t: https://xn--cicerolbet-6cb.dk/\n
URL:https://blackfoot.dk/begivenhed/cicero-25
DTSTART:20251108T160000Z
DTEND:20251109T090000Z
LOCATION:Blackfoot Bloustrød\, Sandholmgårdsvej 29\, 3450 Allerød
END:VEVENT
BEGIN:VEVENT
UID:gruppeweb.dk:1304:event:1261
DTSTAMP:20260420T062021Z
LAST-MODIFIED:20260211T134824Z
SUMMARY:Juletur '25 - troppen
DESCRIPTION:Forbered jer på lidt af hvert - det bliver både brandvarmt ud
 endørs men  \nogså julehyggeligt indendørs hvor vi traditionen tro lave
 r fælles julemad\,  \nhyggelige juleaktiviteter og spiller pakkeleg!\n\n\
 nPraktik:\n\nI skal pakke til at kunne opholde jer udendørs men hygge og 
 overnatte  \nindendørs\, husk derfor sovegrej inkl. liggeunderlag.\n\nHus
 k også en gave til pakkeleg\, 20 - 25 kr.\n\nI skal selv transportere jer
 es grej fredag.\n\n\nVi mødes ved Skovmarkshytten fredag eftermiddag og e
 r sammen til søndag  \nformiddag hvor I skal afhentes ½ times kørsel fr
 a Blovstrød (gerne ved  \nfælleskørsel).\n\nLokation og aktiviteter er 
 lidt hemmelige men det bliver fedt!\n\n\nDe bedste julehilsner \n\nTropsl
 edelsen\n\n\n
URL:https://blackfoot.dk/begivenhed/juletur-25-troppen
DTSTART:20251205T170000Z
DTEND:20251207T090000Z
LOCATION:Blackfoot Bloustrød\, Sandholmgårdsvej 29\, 3450 Allerød
END:VEVENT
BEGIN:VEVENT
UID:gruppeweb.dk:1304:event:1268
DTSTAMP:20260420T062021Z
LAST-MODIFIED:20260219T181850Z
SUMMARY:Gruppetur 2026 (mikro\, mini\, junior\, trop\, klan)
DESCRIPTION:I er inviteret til årets mest skøre\nspejderweekend!\n\nNoget
  mystisk er sket… Tiden er\nbegyndt at gå baglæns\, og hele verden er 
 vendt på hovedet. Kun modige  \nspejdere\nkan hjælpe med\, at få tiden 
 tilbage på rette spor. Sammen skal vi løse  \ngåden\,\ntage på eventyr
  og overvinde udfordringer. Vi lover jer at det bliver\nsjovt. \n\n\nSå 
 skynd dig\, at tilmelde dig årets gruppetur.\nSe mere information i den v
 edhæftede invitation\n\n\n\n
URL:https://blackfoot.dk/begivenhed/gruppetur-2026-mikro-mini-junior-trop-k
 lan
DTSTART:20260227T153000Z
DTEND:20260301T100000Z
LOCATION:Høbjerghus\, Høbjerg Hegn 5\, 3200 Helsinge
END:VEVENT
BEGIN:VEVENT
UID:gruppeweb.dk:1304:event:1280
DTSTAMP:20260420T062021Z
LAST-MODIFIED:20260224T201518Z
SUMMARY:Hjælpere til lederløb
DESCRIPTION:\n
URL:https://blackfoot.dk/begivenhed/hjaelpere-til-lederloeb
DTSTART:20260312T150000Z
DTEND:20260312T200000Z
LOCATION:Blackfoot Bloustrød\, Sandholmgårdsvej 29\, 3450 Allerød
END:VEVENT
BEGIN:VEVENT
UID:gruppeweb.dk:1304:event:1266
DTSTAMP:20260420T062021Z
LAST-MODIFIED:20260115T172652Z
SUMMARY:Forlev påskekursus '26
DESCRIPTION:*Forlev Påskekursus* er en uge fyldt med fællesskab\, udfordr
 inger\, nye  \nvenner og masser af spejderånd. Du får mulighed for at pr
 øve nye ting\,  \nudvikle dig selv og have det virkelig sjovt sammen med 
 andre spejdere. Kort  \nsagt: det er fedt – og noget\, du ikke vil gå g
 lip af!\n\nSpejderne rejser sammen til og fra Skanderborg of Forlev Spejde
 rcenter\n\n\nLæs mere på https://forlev.dk/arrangement/paskekursus-2026
 \n\n\n\n
URL:https://blackfoot.dk/begivenhed/forlev-paaskekursus-26
DTSTART:20260328T084500Z
DTEND:20260404T130000Z
LOCATION:Forlev Spejdercenter\, Skyggelundsvej 3\, 8660 Skanderborg
END:VEVENT
BEGIN:VEVENT
UID:gruppeweb.dk:1304:event:1286
DTSTAMP:20260420T062021Z
LAST-MODIFIED:20260407T195339Z
SUMMARY:Forårsturnering '26
DESCRIPTION:Så er tilmeldingen åben for Forårsturneringen 2026 - årets 
 helt store  \npatruljetur\, hvor vi skal dyste med og mod de andre patrulj
 er i divisionen!\n\nLæs mere i invitationen :)\n\n\n\nDet bliver mega fed
 t!\n\n\n
URL:https://blackfoot.dk/begivenhed/foraarsturnering-26
DTSTART:20260417T160000Z
DTEND:20260419T110000Z
LOCATION:Blackfoot Bloustrød\, Sandholmgårdsvej 29\, 3450 Allerød
END:VEVENT
BEGIN:VEVENT
UID:gruppeweb.dk:1304:event:1295
DTSTAMP:20260420T062021Z
LAST-MODIFIED:20260414T191846Z
SUMMARY:Hyttedag
DESCRIPTION:\n
URL:https://blackfoot.dk/begivenhed/hyttedag-0
DTSTART:20260510T080000Z
DTEND:20260510T120000Z
LOCATION:Blackfoot Bloustrød\, Sandholmgårdsvej 29\, 3450 Allerød
END:VEVENT
BEGIN:VEVENT
UID:gruppeweb.dk:1304:event:1291
DTSTAMP:20260420T062021Z
LAST-MODIFIED:20260323T081415Z
SUMMARY:Shelter-overnatnings-kursus (voksenspejd)
DESCRIPTION:Har du lyst til mere udeliv – men mangler modet eller erfarin
 gen? Elsker du  \nnaturen\, men får den måske ikke brugt helt så meget\
 , som du kunne tænke  \ndig?\n\n\nEr du voksen\, og drømmer du om shelte
 rtur\, bålmad og hyggelige aftener i  \ndet fri – men har ikke helt få
 et taget springet?Vi er en gruppe voksne  \nledere fra Blackfoot Blovstrø
 d\, som gerne vil hjælpe andre voksne i gang  \nmed friluftslivet. Du beh
 øver hverken at have været spejder eller at blive  \ndet. Vi planlægger
  et kursusforløb med 3 hverdagsaftener i foråret\, hvor  \nvi lærer de 
 grundlæggende færdigheder – og afslutter med en hyggelig  \nshelterove
 rnatning med bål og god mad.\nKunne det være noget for dig?\n\nLæs hele
  invitationen tilgængelig som PDF-fil til højre 👉\n\n
URL:https://blackfoot.dk/begivenhed/shelter-overnatnings-kursus-voksenspejd
DTSTART:20260529T150000Z
DTEND:20260530T080000Z
LOCATION:Blackfoot Bloustrød\, Sandholmgårdsvej 29\, 3450 Allerød
END:VEVENT
BEGIN:VEVENT
UID:gruppeweb.dk:1304:event:1258
DTSTAMP:20260420T062021Z
LAST-MODIFIED:20260201T172159Z
SUMMARY:[Junior\, Trop\, Klan] Spejdernes Lejr 2026 - Fuld lejr
DESCRIPTION:\n\nTil\nsommer flytter 30.000 spejdere fra\nDanmark og udlande
 t til Hedeland\nNaturpark v.\nRoskilde\n\n\nBLACKFOOT\nSKAL MED!\n\nDet bl
 iver sjovt og en spejderoplevelse for livet. I kan godt begynde at  \nglæ
 de jer.\n\nFamilie\,\nmikroer og minier deltager\npå halv lejr\, mens jun
 iorer\, trop og klan deltager på den fulde lejr.\n\n\nBlackfoot giver et 
 godt tilskud til alle spejdere\, der kommer med\, så nu  \nfår I igen no
 get for alle\njeres spildop-tjanser.\n\n\nDer\nvil blive fælles transpor
 t med busser til/fra lejren. Vi har ikke præcise\ntidspunkter endnu\, men
  det kommer.\n\n\nVi\nholder et informationsmøde for alle inden lejren.\n
 \nHer kigger vi også nærmere på pakkelister\, bustransport mm.\n*Tilmel
 ding senest 1. februar 2026 *\n\n\nVi\nglæder os så meget\n\nSpejderhil
 sen\nfra alle lederne i Blackfoot Spejdergruppe\n\n
URL:https://blackfoot.dk/begivenhed/junior-trop-klan-spejdernes-lejr-2026-f
 uld-lejr
DTSTART:20260718T080000Z
DTEND:20260726T140000Z
LOCATION:Hedeland Naturpark\, Tranemosevej 2\, 2640 Hedehusene
END:VEVENT
END:VCALENDAR
