BEGIN:VCALENDAR
PRODID:-//Det Danske Spejderkorps//NONSGML Gruppeweb//EN
VERSION:2.0
CALSCALE:GREGORIAN
X-PUBLISHED-TTL:PT1H
X-WR-CALNAME:Ledere og assistenter
METHOD:PUBLISH
BEGIN:VEVENT
UID:gruppeweb.dk:1304:event:1291
DTSTAMP:20260420T160947Z
LAST-MODIFIED:20260323T081415Z
SUMMARY:Shelter-overnatnings-kursus (voksenspejd)
DESCRIPTION:Har du lyst til mere udeliv – men mangler modet eller erfarin
 gen? Elsker du  \nnaturen\, men får den måske ikke brugt helt så meget\
 , som du kunne tænke  \ndig?\n\n\nEr du voksen\, og drømmer du om shelte
 rtur\, bålmad og hyggelige aftener i  \ndet fri – men har ikke helt få
 et taget springet?Vi er en gruppe voksne  \nledere fra Blackfoot Blovstrø
 d\, som gerne vil hjælpe andre voksne i gang  \nmed friluftslivet. Du beh
 øver hverken at have været spejder eller at blive  \ndet. Vi planlægger
  et kursusforløb med 3 hverdagsaftener i foråret\, hvor  \nvi lærer de 
 grundlæggende færdigheder – og afslutter med en hyggelig  \nshelterove
 rnatning med bål og god mad.\nKunne det være noget for dig?\n\nLæs hele
  invitationen tilgængelig som PDF-fil til højre 👉\n\n
URL:https://blackfoot.dk/index%2Ephp/begivenhed/shelter-overnatnings-kursus
 -voksenspejd
DTSTART:20260529T150000Z
DTEND:20260530T080000Z
LOCATION:Blackfoot Bloustrød\, Sandholmgårdsvej 29\, 3450 Allerød
END:VEVENT
BEGIN:VEVENT
UID:gruppeweb.dk:1304:event:1295
DTSTAMP:20260420T160947Z
LAST-MODIFIED:20260414T191846Z
SUMMARY:Hyttedag
DESCRIPTION:\n
URL:https://blackfoot.dk/index%2Ephp/begivenhed/hyttedag-0
DTSTART:20260510T080000Z
DTEND:20260510T120000Z
LOCATION:Blackfoot Bloustrød\, Sandholmgårdsvej 29\, 3450 Allerød
END:VEVENT
BEGIN:VEVENT
UID:gruppeweb.dk:1304:event:1217
DTSTAMP:20260420T160947Z
LAST-MODIFIED:20260211T135003Z
SUMMARY:Jacob Vium låner Skovmarskhytten (Det store rum)
DESCRIPTION:Jacob Vium låner Skovmarkshytten (Det store rum) og bål stede
 t. ( Studenter  \nfejring  for Jeppe).\n\n
URL:https://blackfoot.dk/index%2Ephp/begivenhed/jacob-vium-laaner-skovmarsk
 hytten-det-store-rum
DTSTART:20250701T145500Z
DTEND:20250701T210100Z
LOCATION:Blackfoot Bloustrød\, Sandholmgårdsvej 29\, 3450 Allerød
END:VEVENT
BEGIN:VEVENT
UID:gruppeweb.dk:1304:event:1219
DTSTAMP:20260420T160947Z
LAST-MODIFIED:20260211T134959Z
SUMMARY:Sommerafslutning for ledere og gruppestyrelse med mad
DESCRIPTION:Sommerafslutningen for ledere og gruppestyrelse bliver en super
  hyggelig  \naften\, hvor du selvfølgelig kommer og får en bid mad og hy
 gger sammen med  \nde bedste spejdere ledere og den bedste gruppestyrelse
  😊\n\n\n\n\nVi vil gerne opfordre alle som skal på sommerlejr til at 
 komme\, da vi efter  \nspisning holder sommerlejrmøde\, \n\nHvis du har 
 mulighed for det\, så mød gerne op kl. 17.00 – der skal nemlig  \ntjek
 kes telte\, så alt er klart til sommerlejren.\n\nSpisning er kl ca 18:15\
 n\nTilmed jer gerne\, så vi ved hvor mange vi skal lave mad til.\n\nVi gl
 æder os til at se jer\n\nDe bedste spejderhilsner\n\nSusan\, Louise og Sa
 nne\n\n
URL:https://blackfoot.dk/index%2Ephp/begivenhed/sommerafslutning-ledere-og-
 gruppestyrelse-med-mad
DTSTART:20250626T160000Z
DTEND:20250626T200000Z
LOCATION:Blackfoot Bloustrød\, Sandholmgårdsvej 29\, 3450 Allerød
END:VEVENT
BEGIN:VEVENT
UID:gruppeweb.dk:1304:event:1243
DTSTAMP:20260420T160947Z
LAST-MODIFIED:20260211T134902Z
SUMMARY:Lederdøgn 2025
DESCRIPTION:\nKære alle ledere\,\n\nVi gør det igen - tager sammen afsted
  på lederdøgn. Det bliver så skønt\n\nVi skal kigge ind i den kommende
  udviklingsplan "Spejder skaber handlekraft"  \n- selvfølgelig krydret i 
 bedste Blackfoot stil med god mad og hygge.\n\nVi er lige ved at lande et 
 sted i nærområdet\, så lokation følger.\n\nVi mødes kl. 17:00 fredag 
 og sætter gang i en fed tur sammen. Lørdag  \nmorgen holder vi ledermød
 e.\n\nVi glæder os mega meget - bedste hilsner fra Louise\, Uffe og Susan
 \n\n\n \n\n\n
URL:https://blackfoot.dk/index%2Ephp/begivenhed/lederdoegn-2025
DTSTART:20251024T150000Z
DTEND:20251025T090000Z
LOCATION:Blackfoot Bloustrød\, Sandholmgårdsvej 29\, 3450 Allerød
END:VEVENT
BEGIN:VEVENT
UID:gruppeweb.dk:1304:event:1255
DTSTAMP:20260420T160947Z
LAST-MODIFIED:20260211T134828Z
SUMMARY:SpejderSkills for ledere - udendørs (bål\, mad\, personligt udsty
 r)
DESCRIPTION:Introduktion til spejderfærdigheder for alle ledere der måske
  ikke har en  \nlang spejderkarriere bag sig\, eller som bare gerne vil pu
 dse formen lidt af.\n\nVi kan love at det bliver hyggeligt\, roligt og all
 e kan være med.\n\nPå dette møde fokuserer vi på bål\, mad samt perso
 nligt udstyr - og vi  \nskal fortrinsvist være udenfor.\n\nMvh\n\n/Jakob\
 , Anders og Tommy/\n\n
URL:https://blackfoot.dk/index%2Ephp/begivenhed/spejderskills-ledere-udendo
 ers-baal-mad-personligt-udstyr
DTSTART:20260121T180000Z
DTEND:20260121T193000Z
LOCATION:Blackfoot Bloustrød\, Sandholmgårdsvej 29\, 3450 Allerød
END:VEVENT
BEGIN:VEVENT
UID:gruppeweb.dk:1304:event:1256
DTSTAMP:20260420T160947Z
LAST-MODIFIED:20260211T134831Z
SUMMARY:SpejderSkills for ledere - indendørs (knob\, pioner\, lejretableri
 ng)
DESCRIPTION:Introduktion til spejderfærdigheder for alle ledere der måske
  ikke har en  \nlang spejderkarriere bag sig\, eller som bare gerne vil pu
 dse formen lidt af.\n\nVi kan love at det bliver hyggeligt\, roligt og all
 e kan være med.\n\nPå dette møde fokuserer vi på knob\, pioner og lejr
 etablering - og vi skal  \nfortrinsvist være indenfor og samt udenfor und
 er udhænget.\n\nMvh\n\n/Jakob\, Anders og Tommy/\n\n
URL:https://blackfoot.dk/index%2Ephp/begivenhed/spejderskills-ledere-indend
 oers-knob-pioner-lejretablering
DTSTART:20260107T180000Z
DTEND:20260107T193000Z
LOCATION:Blackfoot Bloustrød\, Sandholmgårdsvej 29\, 3450 Allerød
END:VEVENT
BEGIN:VEVENT
UID:gruppeweb.dk:1304:event:1277
DTSTAMP:20260420T160947Z
LAST-MODIFIED:20260302T202454Z
SUMMARY:Lederløb
DESCRIPTION:\n
URL:https://blackfoot.dk/index%2Ephp/begivenhed/lederloeb
DTSTART:20260312T163000Z
DTEND:20260312T203000Z
LOCATION:Blackfoot Bloustrød\, Sandholmgårdsvej 29\, 3450 Allerød
END:VEVENT
END:VCALENDAR
