BEGIN:VCALENDAR
PRODID:-//Det Danske Spejderkorps//NONSGML Gruppeweb//EN
VERSION:2.0
CALSCALE:GREGORIAN
X-PUBLISHED-TTL:PT1H
X-WR-CALNAME:Junior
METHOD:PUBLISH
BEGIN:VEVENT
UID:gruppeweb.dk:1304:event:1205
DTSTAMP:20260421T163341Z
LAST-MODIFIED:20260211T135028Z
SUMMARY:Kanomøde Junior\, 5. maj
DESCRIPTION:Mandag den 5. maj og mandag den 12. maj skal vi tage\nkanomærk
 e\, så vi kan forberede os på året sommerlejr som er på  \nThurøbund\
 nspejderscenter Dette kommer til at foregår i Virum\, hvor vi har lånt k
 anoer  \naf\nVirum spejergruppe.\n\n\n\nPlanen er at kører samlet fra hyt
 te kl 17 og være retur igen\nmellem 19:30 og 20:00.\n\n\n\nVi ser frem ti
 l et par anderledes og super fede spejdermøder og håber I kan  \nhjælpe
  os så spejderne kan få en fantastisk oplevelse.\n\n\n\nJuniorteamet\n\n
 \n\n
URL:https://blackfoot.dk/index%2Ephp/begivenhed/kanomoede-junior-5-maj
DTSTART:20250505T150000Z
DTEND:20250505T180000Z
LOCATION:Virum Spejdergruppe\, Furesøvej 37\, 2830 Virum
END:VEVENT
BEGIN:VEVENT
UID:gruppeweb.dk:1304:event:1210
DTSTAMP:20260421T163341Z
LAST-MODIFIED:20260211T135021Z
SUMMARY:Junior - Oak City Rally 2025
DESCRIPTION:Kom med til Oak City Rally\, der er verdens største sæbekasse
 løb som i år  \nafholdes for 50. gang. Sidste år var der mere end 200 s
 æbekassebiler med i  \nløbet. Løbet er 10 km langt og starter ved Farum
  Station hvorfra det går  \ngennem et smukt landskab og skov indtil måls
 tregen på Egemose Centret. Det  \ner et sjovt løb med festlig stemning o
 g flotte sæbekassebiler og løbere. \n\nEt sæbekassebilhold består af 
 fire-fem spejdere. Én spejder\, der sidder i  \nvognen og styrer og tre-f
 ire til at skubbe. Man bytter selvfølgelig plads  \nundervejs\, og der vi
 l være selvvalgte snacks- og drikkepauser. Voksne må  \nikke hjælpe med
  at skubbe sæbekassebilen. \n\nDer løber en leder med på hele ruten ve
 d hver Mini-sæbekassebil.\n\nTilmelding til Oak City 2025 senest den 11. 
 maj 2025.\n\nProgram for løbet: \n\nKl. 08.30 Vi mødes ved Skovmarkshyt
 ten i Blovstrød. Kører sæbekassebiler  \npå trailer og derfra er der f
 ælleskørsel til Farum Station\n\nKl. 09.45 Løbskontoret lukker for tjek
 -ind\nKl. 09.50 Alle vogne er på plads ved Farum Station\nKl. 10.00 Førs
 te start – efterfølgende start er hvert 2. minut for de 10  \nførste s
 tarter\nKl. 10.45 Forventet ankomst af første vogn på Egemose Centret\nK
 l. 11.00 Boderne åbner på Egemose Centret\nKl. 13.00 Registrering af lø
 bstider ophører\nKl. 14.00 Afslutning og præmieoverrækkelse – resulta
 tlister ophænges\nKl. 14.30 Vi er helt færdige og spejderne kan hentes p
 å Egemose Centret. I  \nskal selv hente jeres barn på Egemosen eller arr
 angere samkørsel med andre.\n\nPå Egemose Centret laver vi en Blackfoot-
 base\, der markeres med et  \nstrandflag. Når spejderne løbende kommer i
  mål\, vil vi mødes i basen.  \nAlle deltagere får en is og et Oak City
  mærke til uniformen. Hvis I ønsker  \nat købe andet mad eller snacks p
 å Egemose Centret\, skal I selv have penge  \nmed. Det er fx muligt at k
 øbe tryk på t-shirts for 20 kr. Husk selv at  \nmedbringe en t-shirt og 
 penge. Forældre og søskende er meget velkomne til  \nat heppe på ruten 
 eller til at stå i målområdet og være i  \nBlackfoot-basen.\n\nPakkeli
 ste:\n\nTurtaske med drikkedunk\, madpakke\, gode snacks til turen\, sko d
 u kan løbe i\,  \nspejdertørklæde og tøj efter vejret fx kasket og sol
 creme eller  \nregntøj. \n\nDet koster 50kr pr. spejder at deltage. \n\
 nPraktisk information om Oak City: OCR Brochure 2025.doc [1] samt rute og 
  \nparkering ved Egemose Centret. P-billet 25 kr: Forældreinfo [2] og Ank
 omst  \nog Parkering  [3]\n\n\nVi glæder os til et festligt spejderløb\
 n\n\nSpejderhilsen fra Junior-teamet\n\n\n[1] https://view.officeapps.live
 .com/op/view.aspx?src=https%3A%2F%2Fgrps220001.gruppeweb.dk%2Ffiles%2F2025
 -03%2FOCR%2520Brochure%25202025.doc&amp\;wdOrigin=BROWSELINK\n[2] https://
 grps220001.gruppeweb.dk/foraeldre-info\n[3] https://grps220001.gruppeweb.d
 k/files/2022-12/60635014_2404299666284057_6220316270537998336_n.png\n
URL:https://blackfoot.dk/index%2Ephp/begivenhed/junior-oak-city-rally-2025
DTSTART:20250601T063000Z
DTEND:20250601T123000Z
LOCATION:Blackfoot Bloustrød\, Sandholmgårdsvej 29\, 3450 Allerød
END:VEVENT
BEGIN:VEVENT
UID:gruppeweb.dk:1304:event:1194
DTSTAMP:20260421T163341Z
LAST-MODIFIED:20250529T130620Z
SUMMARY:Sommerlejr 2025 på THURØBUND
DESCRIPTION:Kære alle mikro\, mini\, junior og\ntrops-spejdere\n\n\nVi\nin
 viterer jer til sommerlejr på THURØBUND SPEJDERCENTER på Thurø syd for
 \nSvendborg. Thurøbund er Danmarks eneste sejlende spejdercenter.\n\n\nVi
 \nvil gerne give alle Blackfoot spejdere denne unikke spejderoplevelse\, a
 t\ntilbringe årets sommerlejr på et spejdercenter specialiseret  i sejl
 ads.  \nSpejdercenterets aktiviteter er\ntilrettelagt så hverken spejdere
  eller ledere behøver at have kendskab til  \nat\nsejle i forvejen. Cente
 rets dygtige medarbejdere instruerer og hjælper til  \nmed\nsejladsen. Se
  mere på  www.tsc.dk [1]\n\n\n\nEn center sommerlejr er en uge med spæn
 dende aktiviteter\, fælles  \narrangementer og mulighed for at møde nye 
 spejdervenner fra andre  \nspejdergrupper i Danmark. Udover sejlads og van
 daktiviteter skal vi opbygge  \nlejrplads\, sove i telt og lave god mad p
 å bål. Om aftenen er der hygge og  \nlejrbål sammen med de mange andre 
 spejdere på lejren og i kiosken kan du  \nkøbe snacks og slik.\nVi glæd
 er os rigtig meget.\nSpejderhilsen fra alle lederne\n\n\n\n[1] http://www.
 tsc.dk/\n
URL:https://blackfoot.dk/index%2Ephp/begivenhed/sommerlejr-2025-paa-thuroeb
 und
DTSTART:20250705T070000Z
DTEND:20250709T140000Z
LOCATION:Thurøbund Spejdercenter\, Grastenvej 204C\, 5700 Svendborg
END:VEVENT
BEGIN:VEVENT
UID:gruppeweb.dk:1304:event:1223
DTSTAMP:20260421T163341Z
LAST-MODIFIED:20250910T191522Z
SUMMARY:Allerødlejr 2025
DESCRIPTION:Kære spejder!\n\n\n\n\nFor to år siden holdt vi en super fæl
 les spejderweekend for alle spejdere i  \nAllerød Kommune og nu gør vi d
 et igen. Vi skal mødes med vores venner fra  \nde andre spejdergrupper og
  have en sjov\, aktiv og hyggelig weekend. Vi skal  \nopleve\, hvordan man
 ge spejdere sammen kan få en weekend til at bliver fyldt  \nmed sjove og 
 udfordrende oplevelser i naturen krydret med lejrbål\, sang og  \nhygge -
  på en en bæredygtigt og klimavenligt måde. Og det er jo helt  \nperfek
 t\, at vi til sommer skal bo i lejr på Spejdernes Lejr netop med alle  \n
 spejderne fra Allerød Kommune. Fedt.  Se mere i vedhæftede invitation  
 \n:-) \n\n\n\n
URL:https://blackfoot.dk/index%2Ephp/begivenhed/alleroedlejr-2025
DTSTART:20250912T160000Z
DTEND:20250914T100000Z
LOCATION:Blackfoot Bloustrød\, Sandholmgårdsvej 29\, 3450 Allerød
END:VEVENT
BEGIN:VEVENT
UID:gruppeweb.dk:1304:event:1248
DTSTAMP:20260421T163341Z
LAST-MODIFIED:20260211T134852Z
SUMMARY:Junior tur til Slusehuset
DESCRIPTION:Som det fremgår af vores halvårsprogram skal vi afsted til Sl
 usehuset i  \nweekenden 8. til 9 november. \n\nVil du gerne have\nbaconm
 ærket? Så skal du med til Sluehuset ved Store Donse Dam. I gamle dage\nb
 oede slusemesteren i dette hus. Hans opgave var at regulere vandstanden i 
  \nåen\nder løb mod det gamle krudtværk. Hytten er lidt primitiv\, men 
 har  \nvarmepumpe og\nbrændeovn.\n\n\n\nVi skal afsted lørdag den\n8. ti
 l søndag den 9. november.  Det\nbliver sjovt og spændende\, så selvfø
 lgelig skal du med.\n\n\n Vi mødes ved Spejderhytten\nlørdag den 8. nov
 ember kl 10 med jeres weekendrygsæk. I skal gå med jeres  \negen\nrygsæ
 k\, så pak fornuftigt\, det er kun en overnatning 😊. Vi spiser  \nfrok
 ost undervejs som I selv skal\nlave - som selvfølgelig skal indeholde bac
 on.\n\n Søndag spiser vi morgenmad\, pakker sammen\, gør rent og går h
 jemad igen.  \nVi regner med at være ved hytten ved 12-tiden\, men skrive
 r på FB når vi  \ngår fra Slusehuset. Det tager ca. en time at gå hjem
 .\n\n\n\n
URL:https://blackfoot.dk/index%2Ephp/begivenhed/junior-tur-til-slusehuset
DTSTART:20251108T090000Z
DTEND:20251109T110000Z
LOCATION:Slusehuset\, Donsevej 25\, 2970 Kokkedal
END:VEVENT
BEGIN:VEVENT
UID:gruppeweb.dk:1304:event:1285
DTSTAMP:20260421T163341Z
LAST-MODIFIED:20260325T081739Z
SUMMARY:JuniorDivi 2026
DESCRIPTION:JuniorDivi er året tur for alle juniorer i vores division - Ra
 vnsholt  \ndivisionen.\n\nVi skal på tur med alle de andre blå spejdere 
 på jeres alder fra Farum\,  \nBirkerød\, Allerød og Brødeskov.\n\nI å
 r skal vi til Sherwood Skoven og måske møder vi Robin Hood undervejs. \
 n\nSe vedhæftet inviation og tilmeld jer\n\n
URL:https://blackfoot.dk/index%2Ephp/begivenhed/juniordivi-2026
DTSTART:20260417T170000Z
DTEND:20260419T093000Z
LOCATION:Blackfoot Bloustrød\, Sandholmgårdsvej 29\, 3450 Allerød
END:VEVENT
BEGIN:VEVENT
UID:gruppeweb.dk:1304:event:1295
DTSTAMP:20260421T163341Z
LAST-MODIFIED:20260414T191846Z
SUMMARY:Hyttedag
DESCRIPTION:\n
URL:https://blackfoot.dk/index%2Ephp/begivenhed/hyttedag-0
DTSTART:20260510T080000Z
DTEND:20260510T120000Z
LOCATION:Blackfoot Bloustrød\, Sandholmgårdsvej 29\, 3450 Allerød
END:VEVENT
BEGIN:VEVENT
UID:gruppeweb.dk:1304:event:1294
DTSTAMP:20260421T163341Z
LAST-MODIFIED:20260324T115320Z
SUMMARY:PUF-kursus for 2. års juniorer\, kun betaling
DESCRIPTION:Kære forældre\,\n\n\n\nTil mødet i går talte vi om PUF kurs
 er. PUF kurser er for\nspejdere i 5 klasse og der tilbydes i år 3 PUF kur
 ser et i Holte\, et på Fyn  \nog\net i Jylland. Vi talte mest om det i Ho
 lte.\n\n\n\nPUF er kurserne for de ældste junior-spejdere (der går i 5.\
 nklasse og er 11-12 år)\, og for dem der gerne vil udfordre og udfolde si
 g  \nselv\npå sjove og lærerige måder\, omringet af andre spejdere fra 
 hele landet.\n\n\n\n*PUF 2026 bliver afholdt i Pinseferien fra 22. - 25.\n
 maj.*\n\n\n\nJeg vil foreslå at I vælger Pif Paf PUF som er på Sjællan
 d\,\nmen Fyn og Jylland er selvfølgelig også en mulighed\, men I står s
 elv for\ntransport til kurset.\n\n\n\nMan har mulighed for at komme sammen
  med sin spejderven I\nskal bare ved tilmelding oplyse spejderens medlemsn
 ummer\n\n\n\nLæse meget mere om PUF her:\n\n\n\nwww.dds.dk/puf [1]\n\n\n\
 nTilmeldingen til PUF kursus foregår på en lidt anden måde\nend i pleje
 r. I skal tilmelde jeres spejder på nedenstående link men IKKE\nforetage
 n nogen betaling når I tilmelder\, men der skal gives en del\noplysninger
 .\n\n\n\nLink til tilmelding Pif Faf PUF i Holte:\n\n\n\nwww.dds.dk/arrang
 ement/pif-paf-puf-sos-fra-junglen [2]\n\n\n\nDe andre kurser kan I også f
 inde derinde\n\n\n\n*Tilmeldingsfrist er den 14/4\, men få det gjort\nhur
 tigst muligt.*\n\n\n\nBetaling skal I gøre direkte på Blackfoots hjemmes
 ide\, hvor\nder vil være et arrangement som hedder PUF kurser. Blackfoot 
 giver et  \ntilskud\npå 700kr til PUF kurset\, så jeres egen andel er 78
 5kr som betales på  \nvanlig\nvis.\n\n\n\nDer er en del spørgsmål I ska
 l svare på når I tilmelder\njeres barn.\n\n\n\nEt af spørgsmålene er b
 etaling. Her skal I vælge ”Faktura\ntil Blackfoot Bloustrød”\n\n\n\n
 Vedrørende leder info sætter I bare mit navn\, mit telefonnr\n24 78 57 0
 3 og min mail Sanne@tscb.dk [3].\n\n\n\nDer skulle være alt for tilmeldin
 gen.\n\n\n\nDDS kommer tilbage direkte til jer om hvilke kurser\nspejderne
  er kommet på. I skal selv stå for transport frem og tilbage\, men\nmås
 ke samkørsel kunne være en mulighed.\n\n\n\nDer vil nok komme en del som
 merfugle i maven op til de skal\nafsted. Vi taler selvfølgelig med spejde
 rne løbende\, men I er ALTID  \nvelkomne\ntil at tage fat i mig med spør
 gsmål. Vi har mange unge spejdere i Blackfoot  \nsom\nhar været på PUF 
 kursus gennem årene og de kommer gerne og giver et par  \ngode\nråd og d
 eler deres erfaring. Sig endelig\, så inviterer vi dem forbi til et\nmød
 e.\n\n\n\nSkriv eller ring til mig\, hvis tilmeldingen driller\, eller I\n
 har spørgsmål\n\n\n\n\nSanne\n\n\n\n\n[1] http://www.dds.dk/puf\n[2] htt
 p://www.dds.dk/arrangement/pif-paf-puf-sos-fra-junglen\n[3] mailto:Sanne@t
 scb.dk\n
URL:https://blackfoot.dk/index%2Ephp/begivenhed/puf-kursus-2-aars-juniorer-
 kun-betaling
DTSTART:20260522T170000Z
DTEND:20260525T120000Z
LOCATION:Blackfoot Bloustrød\, Sandholmgårdsvej 29\, 3450 Allerød
END:VEVENT
BEGIN:VEVENT
UID:gruppeweb.dk:1304:event:1291
DTSTAMP:20260421T163341Z
LAST-MODIFIED:20260323T081415Z
SUMMARY:Shelter-overnatnings-kursus (voksenspejd)
DESCRIPTION:Har du lyst til mere udeliv – men mangler modet eller erfarin
 gen? Elsker du  \nnaturen\, men får den måske ikke brugt helt så meget\
 , som du kunne tænke  \ndig?\n\n\nEr du voksen\, og drømmer du om shelte
 rtur\, bålmad og hyggelige aftener i  \ndet fri – men har ikke helt få
 et taget springet?Vi er en gruppe voksne  \nledere fra Blackfoot Blovstrø
 d\, som gerne vil hjælpe andre voksne i gang  \nmed friluftslivet. Du beh
 øver hverken at have været spejder eller at blive  \ndet. Vi planlægger
  et kursusforløb med 3 hverdagsaftener i foråret\, hvor  \nvi lærer de 
 grundlæggende færdigheder – og afslutter med en hyggelig  \nshelterove
 rnatning med bål og god mad.\nKunne det være noget for dig?\n\nLæs hele
  invitationen tilgængelig som PDF-fil til højre 👉\n\n
URL:https://blackfoot.dk/index%2Ephp/begivenhed/shelter-overnatnings-kursus
 -voksenspejd
DTSTART:20260529T150000Z
DTEND:20260530T080000Z
LOCATION:Blackfoot Bloustrød\, Sandholmgårdsvej 29\, 3450 Allerød
END:VEVENT
BEGIN:VEVENT
UID:gruppeweb.dk:1304:event:1258
DTSTAMP:20260421T163341Z
LAST-MODIFIED:20260201T172159Z
SUMMARY:[Junior\, Trop\, Klan] Spejdernes Lejr 2026 - Fuld lejr
DESCRIPTION:\n\nTil\nsommer flytter 30.000 spejdere fra\nDanmark og udlande
 t til Hedeland\nNaturpark v.\nRoskilde\n\n\nBLACKFOOT\nSKAL MED!\n\nDet bl
 iver sjovt og en spejderoplevelse for livet. I kan godt begynde at  \nglæ
 de jer.\n\nFamilie\,\nmikroer og minier deltager\npå halv lejr\, mens jun
 iorer\, trop og klan deltager på den fulde lejr.\n\n\nBlackfoot giver et 
 godt tilskud til alle spejdere\, der kommer med\, så nu  \nfår I igen no
 get for alle\njeres spildop-tjanser.\n\n\nDer\nvil blive fælles transpor
 t med busser til/fra lejren. Vi har ikke præcise\ntidspunkter endnu\, men
  det kommer.\n\n\nVi\nholder et informationsmøde for alle inden lejren.\n
 \nHer kigger vi også nærmere på pakkelister\, bustransport mm.\n*Tilmel
 ding senest 1. februar 2026 *\n\n\nVi\nglæder os så meget\n\nSpejderhil
 sen\nfra alle lederne i Blackfoot Spejdergruppe\n\n
URL:https://blackfoot.dk/index%2Ephp/begivenhed/junior-trop-klan-spejdernes
 -lejr-2026-fuld-lejr
DTSTART:20260718T080000Z
DTEND:20260726T140000Z
LOCATION:Hedeland Naturpark\, Tranemosevej 2\, 2640 Hedehusene
END:VEVENT
END:VCALENDAR
