BEGIN:VCALENDAR
PRODID:-//Det Danske Spejderkorps//NONSGML Gruppeweb//EN
VERSION:2.0
CALSCALE:GREGORIAN
X-PUBLISHED-TTL:PT1H
X-WR-CALNAME:Familiespejd
METHOD:PUBLISH
BEGIN:VEVENT
UID:gruppeweb.dk:1304:event:1291
DTSTAMP:20260420T160947Z
LAST-MODIFIED:20260323T081415Z
SUMMARY:Shelter-overnatnings-kursus (voksenspejd)
DESCRIPTION:Har du lyst til mere udeliv – men mangler modet eller erfarin
 gen? Elsker du  \nnaturen\, men får den måske ikke brugt helt så meget\
 , som du kunne tænke  \ndig?\n\n\nEr du voksen\, og drømmer du om shelte
 rtur\, bålmad og hyggelige aftener i  \ndet fri – men har ikke helt få
 et taget springet?Vi er en gruppe voksne  \nledere fra Blackfoot Blovstrø
 d\, som gerne vil hjælpe andre voksne i gang  \nmed friluftslivet. Du beh
 øver hverken at have været spejder eller at blive  \ndet. Vi planlægger
  et kursusforløb med 3 hverdagsaftener i foråret\, hvor  \nvi lærer de 
 grundlæggende færdigheder – og afslutter med en hyggelig  \nshelterove
 rnatning med bål og god mad.\nKunne det være noget for dig?\n\nLæs hele
  invitationen tilgængelig som PDF-fil til højre 👉\n\n
URL:https://blackfoot.dk/index%2Ephp/begivenhed/shelter-overnatnings-kursus
 -voksenspejd
DTSTART:20260529T150000Z
DTEND:20260530T080000Z
LOCATION:Blackfoot Bloustrød\, Sandholmgårdsvej 29\, 3450 Allerød
END:VEVENT
BEGIN:VEVENT
UID:gruppeweb.dk:1304:event:1295
DTSTAMP:20260420T160947Z
LAST-MODIFIED:20260414T191846Z
SUMMARY:Hyttedag
DESCRIPTION:\n
URL:https://blackfoot.dk/index%2Ephp/begivenhed/hyttedag-0
DTSTART:20260510T080000Z
DTEND:20260510T120000Z
LOCATION:Blackfoot Bloustrød\, Sandholmgårdsvej 29\, 3450 Allerød
END:VEVENT
BEGIN:VEVENT
UID:gruppeweb.dk:1304:event:1167
DTSTAMP:20260420T160947Z
LAST-MODIFIED:20250129T121903Z
SUMMARY:Familiespejd møde kl. 9.30-11.30
DESCRIPTION:\n
URL:https://blackfoot.dk/index%2Ephp/begivenhed/familiespejd-moede-kl-930-1
 130-1
DTSTART:20250427T073000Z
DTEND:20250427T093000Z
LOCATION:Blackfoot Bloustrød\, Sandholmgårdsvej 29\, 3450 Allerød
END:VEVENT
BEGIN:VEVENT
UID:gruppeweb.dk:1304:event:1174
DTSTAMP:20260420T160947Z
LAST-MODIFIED:20250524T205021Z
SUMMARY:Familiespejd møde kl. 9.30-11.30
DESCRIPTION:Sidste tur i forbindelse med vores haletudsemærke. Vi mødes v
 ed XL byg og  \ngår i samlet flok til Kattehale ☺️\n\n
URL:https://blackfoot.dk/index%2Ephp/begivenhed/familiespejd-moede-kl-930-1
 130-3
DTSTART:20250525T073000Z
DTEND:20250525T093000Z
LOCATION:Kattehalehytten\, Kattehalevej 20\, 3460 Birkerød
END:VEVENT
BEGIN:VEVENT
UID:gruppeweb.dk:1304:event:1175
DTSTAMP:20260420T160947Z
LAST-MODIFIED:20250129T125338Z
SUMMARY:Blackfoot sommerlejr på Thurøbund spejdercenter
DESCRIPTION:Mere info følger \n\n
URL:https://blackfoot.dk/index%2Ephp/begivenhed/blackfoot-sommerlejr-paa-th
 uroebund-spejdercenter
DTSTART;VALUE=DATE:20250705
DTEND;VALUE=DATE:20250710
LOCATION:Thurøbund Spejdercenter
END:VEVENT
BEGIN:VEVENT
UID:gruppeweb.dk:1304:event:1176
DTSTAMP:20260420T160947Z
LAST-MODIFIED:20250129T125342Z
SUMMARY:Familiespejd møde kl. 9.30-11.30
DESCRIPTION:\n
URL:https://blackfoot.dk/index%2Ephp/begivenhed/familiespejd-moede-kl-930-1
 130-4
DTSTART:20250622T073000Z
DTEND:20250622T093000Z
LOCATION:Blackfoot Bloustrød\, Sandholmgårdsvej 29\, 3450 Allerød
END:VEVENT
BEGIN:VEVENT
UID:gruppeweb.dk:1304:event:1194
DTSTAMP:20260420T160947Z
LAST-MODIFIED:20250529T130620Z
SUMMARY:Sommerlejr 2025 på THURØBUND
DESCRIPTION:Kære alle mikro\, mini\, junior og\ntrops-spejdere\n\n\nVi\nin
 viterer jer til sommerlejr på THURØBUND SPEJDERCENTER på Thurø syd for
 \nSvendborg. Thurøbund er Danmarks eneste sejlende spejdercenter.\n\n\nVi
 \nvil gerne give alle Blackfoot spejdere denne unikke spejderoplevelse\, a
 t\ntilbringe årets sommerlejr på et spejdercenter specialiseret  i sejl
 ads.  \nSpejdercenterets aktiviteter er\ntilrettelagt så hverken spejdere
  eller ledere behøver at have kendskab til  \nat\nsejle i forvejen. Cente
 rets dygtige medarbejdere instruerer og hjælper til  \nmed\nsejladsen. Se
  mere på  www.tsc.dk [1]\n\n\n\nEn center sommerlejr er en uge med spæn
 dende aktiviteter\, fælles  \narrangementer og mulighed for at møde nye 
 spejdervenner fra andre  \nspejdergrupper i Danmark. Udover sejlads og van
 daktiviteter skal vi opbygge  \nlejrplads\, sove i telt og lave god mad p
 å bål. Om aftenen er der hygge og  \nlejrbål sammen med de mange andre 
 spejdere på lejren og i kiosken kan du  \nkøbe snacks og slik.\nVi glæd
 er os rigtig meget.\nSpejderhilsen fra alle lederne\n\n\n\n[1] http://www.
 tsc.dk/\n
URL:https://blackfoot.dk/index%2Ephp/begivenhed/sommerlejr-2025-paa-thuroeb
 und
DTSTART:20250705T070000Z
DTEND:20250709T140000Z
LOCATION:Thurøbund Spejdercenter\, Grastenvej 204C\, 5700 Svendborg
END:VEVENT
BEGIN:VEVENT
UID:gruppeweb.dk:1304:event:1201
DTSTAMP:20260420T160947Z
LAST-MODIFIED:20250412T154356Z
SUMMARY:Familiespejd overnatning - alle er velkomne!
DESCRIPTION:Familiespejd inviterer traditionens tro på overnatning ved  \n
 Skovmarkshytten. \nVi mødes lørdag eftermiddag til lejropsætning\, mad
 lavning\, masser af leg  \nog lejrbålshygge. \nVi håber igen i år at s
 e en masse spejdere fra alle grene.\n\nTilmeldingen gælder hele familien.
 \n\n
URL:https://blackfoot.dk/index%2Ephp/begivenhed/familiespejd-overnatning-al
 le-er-velkomne
DTSTART:20250510T130000Z
DTEND:20250511T090000Z
LOCATION:Blackfoot Bloustrød\, Sandholmgårdsvej 29\, 3450 Allerød
END:VEVENT
BEGIN:VEVENT
UID:gruppeweb.dk:1304:event:1207
DTSTAMP:20260420T160947Z
LAST-MODIFIED:20260211T135024Z
SUMMARY:Sommerlejr 2025 på THURØBUND Familiespejder
DESCRIPTION:Kære alle familiespejdere\n\n\nVi\ninviterer jer til sommerlej
 r på THURØBUND SPEJDERCENTER på Thurø syd for\nSvendborg. Thurøbund e
 r Danmarks eneste sejlende spejdercenter.\n\n\nVi\nvil gerne give alle Bla
 ckfoot spejdere denne unikke spejderoplevelse\, at\ntilbringe årets somme
 rlejr på et spejdercenter specialiseret  i sejlads.  \nSpejdercenterets 
 aktiviteter er\ntilrettelagt så hverken spejdere eller ledere behøver at
  have kendskab til  \nat\nsejle i forvejen. Centerets dygtige medarbejdere
  instruerer og hjælper til  \nmed\nsejladsen. Se mere på  www.tsc.dk [1
 ]\n\n\n\nEn center sommerlejr er en uge med spændende aktiviteter\, fæll
 es  \narrangementer og mulighed for at møde nye spejdervenner fra andre  
 \nspejdergrupper i Danmark. Udover sejlads og vandaktiviteter skal vi opby
 gge  \nlejrplads\, sove i telt og lave god mad på bål. Om aftenen er der
  hygge og  \nlejrbål sammen med de mange andre spejdere på lejren og i k
 iosken kan du  \nkøbe snacks og slik.\nBonus info: Der er mulighed for at
  køre med i den store bus sammen med  \nresten af spejderne\, hvis I delt
 ager alle dage - meld tilbage om I kører  \nselv eller vil have plads i d
 en store bus!\nVi glæder os rigtig meget.\nSpejderhilsen fra alle lederne
 \n\n\n\n[1] http://www.tsc.dk/\n
URL:https://blackfoot.dk/index%2Ephp/begivenhed/sommerlejr-2025-paa-thuroeb
 und-familiespejder
DTSTART:20250705T070000Z
DTEND:20250709T140000Z
LOCATION:Thurøbund Spejdercenter\, Grastenvej 204C\, 5700 Svendborg
END:VEVENT
BEGIN:VEVENT
UID:gruppeweb.dk:1304:event:1224
DTSTAMP:20260420T160947Z
LAST-MODIFIED:20250814T140921Z
SUMMARY:Familiespejd - Tur til bålhytten i skoven
DESCRIPTION:\n
URL:https://blackfoot.dk/index%2Ephp/begivenhed/familiespejd-tur-til-baalhy
 tten-i-skoven
DTSTART:20251005T073000Z
DTEND:20251005T093000Z
LOCATION:Blackfoot Bloustrød\, Sandholmgårdsvej 29\, 3450 Allerød
END:VEVENT
BEGIN:VEVENT
UID:gruppeweb.dk:1304:event:1225
DTSTAMP:20260420T160947Z
LAST-MODIFIED:20250814T140923Z
SUMMARY:Familiespejd - Overnatning
DESCRIPTION:\n
URL:https://blackfoot.dk/index%2Ephp/begivenhed/familiespejd-overnatning
DTSTART:20250920T130000Z
DTEND:20250921T080000Z
LOCATION:Blackfoot Bloustrød\, Sandholmgårdsvej 29\, 3450 Allerød
END:VEVENT
BEGIN:VEVENT
UID:gruppeweb.dk:1304:event:1226
DTSTAMP:20260420T160947Z
LAST-MODIFIED:20250814T140924Z
SUMMARY:Familiespejd - Opstart
DESCRIPTION:\n
URL:https://blackfoot.dk/index%2Ephp/begivenhed/familiespejd-opstart
DTSTART:20250907T073000Z
DTEND:20250907T093000Z
LOCATION:Blackfoot Bloustrød\, Sandholmgårdsvej 29\, 3450 Allerød
END:VEVENT
BEGIN:VEVENT
UID:gruppeweb.dk:1304:event:1227
DTSTAMP:20260420T160947Z
LAST-MODIFIED:20250814T150242Z
SUMMARY:Familiespejd - Juleafslutning
DESCRIPTION:\n
URL:https://blackfoot.dk/index%2Ephp/begivenhed/familiespejd-juleafslutning
DTSTART:20251130T083000Z
DTEND:20251130T103000Z
LOCATION:Blackfoot Bloustrød\, Sandholmgårdsvej 29\, 3450 Allerød
END:VEVENT
BEGIN:VEVENT
UID:gruppeweb.dk:1304:event:1228
DTSTAMP:20260420T160947Z
LAST-MODIFIED:20250814T150243Z
SUMMARY:Familiespejd
DESCRIPTION:\n
URL:https://blackfoot.dk/index%2Ephp/begivenhed/familiespejd-22
DTSTART:20251102T083000Z
DTEND:20251102T103000Z
LOCATION:Blackfoot Bloustrød\, Sandholmgårdsvej 29\, 3450 Allerød
END:VEVENT
BEGIN:VEVENT
UID:gruppeweb.dk:1304:event:1229
DTSTAMP:20260420T160947Z
LAST-MODIFIED:20250814T150243Z
SUMMARY:Familiespejd
DESCRIPTION:\n
URL:https://blackfoot.dk/index%2Ephp/begivenhed/familiespejd-23
DTSTART:20251019T073000Z
DTEND:20251019T093000Z
LOCATION:Blackfoot Bloustrød\, Sandholmgårdsvej 29\, 3450 Allerød
END:VEVENT
BEGIN:VEVENT
UID:gruppeweb.dk:1304:event:1230
DTSTAMP:20260420T160947Z
LAST-MODIFIED:20250814T150244Z
SUMMARY:Familiespejd
DESCRIPTION:\n
URL:https://blackfoot.dk/index%2Ephp/begivenhed/familiespejd-24
DTSTART:20251116T083000Z
DTEND:20251116T103000Z
LOCATION:Blackfoot Bloustrød\, Sandholmgårdsvej 29\, 3450 Allerød
END:VEVENT
BEGIN:VEVENT
UID:gruppeweb.dk:1304:event:1231
DTSTAMP:20260420T160947Z
LAST-MODIFIED:20250814T150249Z
SUMMARY:Familiespejd
DESCRIPTION:\n
URL:https://blackfoot.dk/index%2Ephp/begivenhed/familiespejd-25
DTSTART:20260222T083000Z
DTEND:20260222T103000Z
LOCATION:Blackfoot Bloustrød\, Sandholmgårdsvej 29\, 3450 Allerød
END:VEVENT
BEGIN:VEVENT
UID:gruppeweb.dk:1304:event:1238
DTSTAMP:20260420T160947Z
LAST-MODIFIED:20260211T134919Z
SUMMARY:Familieovernatning
DESCRIPTION:Så er det igen tid til en dejlig overnatning på spejdergrunde
 n\, hvor vi  \nlaver mad over bål\, spiser sammen\, hygger og overnatter 
 i telt eller  \nshelter. Søndag morgen spiser vi morgenmad og rydder op s
 ammen.\n\nSøskende er også velkomne. Man melder bare til pr. familie og 
 noterer antal  \nbørn og voksne\, så sørger lederne for indkøb.\n\nVi 
 glæder os til at se jer 😊\n\n
URL:https://blackfoot.dk/index%2Ephp/begivenhed/familieovernatning-1
DTSTART:20250920T130000Z
DTEND:20250921T080000Z
LOCATION:Blackfoot Bloustrød\, Sandholmgårdsvej 29\, 3450 Allerød
END:VEVENT
BEGIN:VEVENT
UID:gruppeweb.dk:1304:event:1257
DTSTAMP:20260420T160947Z
LAST-MODIFIED:20260201T172155Z
SUMMARY:[Familiespejd] Spejdernes Lejr 2026 - Halv lejr
DESCRIPTION:\n\nTil sommer flytter 30.000 spejdere fra Danmark og udlandet
  til Hedeland  \nNaturpark v. Roskilde\n\n\nBLACKFOOT SKAL MED!\n\nDet b
 liver sjovt og en spejderoplevelse for livet. I kan godt begynde at  \ngl
 æde jer.\n\nFamilie\, mikroer og minier deltager på halv lejr\, mens j
 uniorer\, trop og  \nklan deltager på den fulde lejr.\n\n\nBlackfoot give
 r et godt tilskud til alle spejdere\, der kommer med\, så nu  \nfår I ig
 en noget for alle jeres spildop-tjanser.\n\n\nDer vil blive fælles trans
 port med busser til/fra lejren. Vi har ikke  \npræcise tidspunkter endnu\
 , men det kommer.\n\n\nVi holder et informationsmøde for alle inden lejre
 n.\n\nHer kigger vi også nærmere på pakkelister\, bustransport mm.\nTil
 melding senest 1. februar 2026 \n\n\nVi glæder os så meget\n\nSpejderhi
 lsen fra alle lederne i Blackfoot Spejdergruppe\n\n
URL:https://blackfoot.dk/index%2Ephp/begivenhed/familiespejd-spejdernes-lej
 r-2026-halv-lejr
DTSTART:20260722T080000Z
DTEND:20260726T140000Z
LOCATION:Hedeland Naturpark\, Tranemosevej 2\, 2640 Hedehusene
END:VEVENT
BEGIN:VEVENT
UID:gruppeweb.dk:1304:event:1267
DTSTAMP:20260420T160947Z
LAST-MODIFIED:20260211T134810Z
SUMMARY:[familiespejder] Gruppetur 2026
DESCRIPTION:\nI er inviteret til årets mest skøre\nspejderweekend!\n\nNog
 et mystisk er sket… Tiden er\nbegyndt at gå baglæns\, og hele verden e
 r vendt på hovedet. Kun modige  \nspejdere\nkan hjælpe med\, at få tide
 n tilbage på rette spor. Sammen skal vi løse  \ngåden\,\ntage på event
 yr og overvinde udfordringer. Vi lover jer at det bliver\nsjovt. \n\nSå 
 skynd dig\, at tilmelde dig årets\ngruppetur.\n \n\nFamiliespejd deltage
 r lørdag d 28 februar fra kl. 10 og til \nog med\n\n\naftensmad & ceremo
 ni. Mødested\noplyses når vi nærmere os.  \n\n
URL:https://blackfoot.dk/index%2Ephp/begivenhed/familiespejder-gruppetur-20
 26
DTSTART:20260228T090000Z
DTEND:20260228T200000Z
LOCATION:Blackfoot Bloustrød\, Sandholmgårdsvej 29\, 3450 Allerød
END:VEVENT
BEGIN:VEVENT
UID:gruppeweb.dk:1304:event:1270
DTSTAMP:20260420T160947Z
LAST-MODIFIED:20260205T084343Z
SUMMARY:Familiespejd
DESCRIPTION:\n
URL:https://blackfoot.dk/index%2Ephp/begivenhed/familiespejd-26
DTSTART:20260322T083000Z
DTEND:20260322T103000Z
LOCATION:Blackfoot Bloustrød\, Sandholmgårdsvej 29\, 3450 Allerød
END:VEVENT
BEGIN:VEVENT
UID:gruppeweb.dk:1304:event:1271
DTSTAMP:20260420T160947Z
LAST-MODIFIED:20260205T084340Z
SUMMARY:Familiespejd
DESCRIPTION:\n
URL:https://blackfoot.dk/index%2Ephp/begivenhed/familiespejd-27
DTSTART:20260614T073000Z
DTEND:20260614T093000Z
LOCATION:Blackfoot Bloustrød\, Sandholmgårdsvej 29\, 3450 Allerød
END:VEVENT
BEGIN:VEVENT
UID:gruppeweb.dk:1304:event:1272
DTSTAMP:20260420T160947Z
LAST-MODIFIED:20260205T084341Z
SUMMARY:Familiespejd - Overnatning
DESCRIPTION:\n
URL:https://blackfoot.dk/index%2Ephp/begivenhed/familiespejd-overnatning-0
DTSTART:20260509T130000Z
DTEND:20260510T090000Z
LOCATION:Blackfoot Bloustrød\, Sandholmgårdsvej 29\, 3450 Allerød
END:VEVENT
BEGIN:VEVENT
UID:gruppeweb.dk:1304:event:1274
DTSTAMP:20260420T160947Z
LAST-MODIFIED:20260205T084342Z
SUMMARY:Familiespejd
DESCRIPTION:\n
URL:https://blackfoot.dk/index%2Ephp/begivenhed/familiespejd-28
DTSTART:20260503T073000Z
DTEND:20260503T093000Z
LOCATION:Blackfoot Bloustrød\, Sandholmgårdsvej 29\, 3450 Allerød
END:VEVENT
BEGIN:VEVENT
UID:gruppeweb.dk:1304:event:1279
DTSTAMP:20260420T160947Z
LAST-MODIFIED:20260210T234707Z
SUMMARY:Familiespejd
DESCRIPTION:\n
URL:https://blackfoot.dk/index%2Ephp/begivenhed/familiespejd-29
DTSTART:20260412T073000Z
DTEND:20260412T093000Z
LOCATION:Blackfoot Bloustrød\, Sandholmgårdsvej 29\, 3450 Allerød
END:VEVENT
END:VCALENDAR
