BEGIN:VCALENDAR
PRODID:-//Det Danske Spejderkorps//NONSGML Gruppeweb//EN
VERSION:2.0
CALSCALE:GREGORIAN
X-PUBLISHED-TTL:PT1H
X-WR-CALNAME:Mini
METHOD:PUBLISH
BEGIN:VEVENT
UID:gruppeweb.dk:1304:event:1200
DTSTAMP:20260420T161214Z
LAST-MODIFIED:20250527T052543Z
SUMMARY:Oak City Rally 2025
DESCRIPTION:*Kom med til Oak City Rally\, *der er verdens største sæbekas
 seløb som i  \når afholdes for 50. gang. Sidste år var der mere end 200
  sæbekassebiler  \nmed i løbet. Løbet er 10 km langt og starter ved Far
 um Station hvorfra det  \ngår gennem et smukt landskab og skov indtil må
 lstregen på Egemose Centret.  \nDet er et sjovt løb med festlig stemning
  og flotte sæbekassebiler og  \nløbere. \n\nEt sæbekassebilhold bestå
 r af fire-fem spejdere. Én spejder\, der sidder i  \nvognen og styrer og 
 tre-fire til at skubbe. Man bytter selvfølgelig plads  \nundervejs\, og d
 er vil være selvvalgte snacks- og drikkepauser. Voksne må  \nikke hjælp
 e med at skubbe sæbekassebilen. \n\nDer løber en leder med på hele rut
 en ved hver Mini-sæbekassebil.\n\n*Tilmelding til Oak City 2025 senest de
 n 30. april 2025.*\n\nProgram for løbet: \n\nKl. 08.30 Vi mødes ved Sko
 vmarkshytten i Blovstrød. Kører sæbekassebiler  \npå trailer og derfra
  er der fælleskørsel til Farum Station\n\nKl. 09.45 Løbskontoret lukker
  for tjek-ind\nKl. 09.50 Alle vogne er på plads ved Farum Station\nKl. 10
 .00 Første start – efterfølgende start er hvert 2. minut for de 10  \n
 første starter\nKl. 10.45 Forventet ankomst af første vogn på Egemose C
 entret\nKl. 11.00 Boderne åbner på Egemose Centret\nKl. 13.00 Registreri
 ng af løbstider ophører\nKl. 14.00 Afslutning og præmieoverrækkelse 
 – resultatlister ophænges\nKl. 14.30 Vi er helt færdige og spejderne k
 an hentes på Egemose Centret. I  \nskal selv hente jeres barn på Egemose
 n eller arrangere samkørsel med andre.\n\n*\n*På Egemose Centret laver v
 i en Blackfoot-base\, der markeres med et  \nstrandflag. Når spejderne l
 øbende kommer i mål\, vil vi mødes i basen.  \nAlle deltagere får en i
 s og et Oak City mærke til uniformen. Hvis I ønsker  \nat købe andet ma
 d eller snacks på Egemose Centret\, skal I selv have penge  \nmed. Det er
  fx muligt at købe tryk på t-shirts for 20 kr. Husk selv at  \nmedbringe
  en t-shirt og penge. Forældre og søskende er meget velkomne til  \nat h
 eppe på ruten eller til at stå i målområdet og være i  \nBlackfoot-ba
 sen.\n\nPakkeliste:\n\nTurtaske med drikkedunk\, madpakke\, gode snacks ti
 l turen\, sko du kan løbe i\,  \nspejdertørklæde og tøj efter vejret f
 x kasket og solcreme eller  \nregntøj. \n\n*\n*Det koster 50kr pr. spejd
 er at deltage. \n\nPraktisk information om Oak City: OCR Brochure 2025.do
 c [1] samt rute og  \nparkering ved Egemose Centret. P-billet 25 kr: Foræ
 ldreinfo [2] og Ankomst  \nog Parkering  [3]\n\n*\n*\n\nVi glæder os til
  et festligt spejderløb\n\n\nSpejderhilsen fra Mini-lederteamet\n\n\n[1] 
 https://view.officeapps.live.com/op/view.aspx?src=https%3A%2F%2Fgrps220001
 .gruppeweb.dk%2Ffiles%2F2025-03%2FOCR%2520Brochure%25202025.doc&amp\;wdOri
 gin=BROWSELINK\n[2] https://grps220001.gruppeweb.dk/foraeldre-info\n[3] ht
 tps://grps220001.gruppeweb.dk/files/2022-12/60635014_2404299666284057_6220
 316270537998336_n.png\n
URL:https://blackfoot.dk/index%2Ephp/begivenhed/oak-city-rally-2025
DTSTART:20250601T063000Z
DTEND:20250601T123000Z
LOCATION:Blackfoot Bloustrød\, Sandholmgårdsvej 29\, 3450 Allerød
END:VEVENT
BEGIN:VEVENT
UID:gruppeweb.dk:1304:event:1215
DTSTAMP:20260420T161214Z
LAST-MODIFIED:20250602T183931Z
SUMMARY:Mini overnatning på spejdergrunden
DESCRIPTION:Vi skal i gang med at tage Teltmærket\, hvor vi skal lære at 
 slå et telt  \nop\, kende sikkerhedsreglerne og overnatte i et telt. Vi h
 ar derfor en  \novernatning på spejdergrunden kun for Minierne.\nHer kan 
 vi også øve os lidt til sommerlejren på Thurøbund.\n\n*\n*\n\nVi møde
 s fredag 13. juni 2025 kl. 16.00 ved Skovmarkshytten\,  \nSandholmgårdsve
 j 29.\n\n*\n*\n\nVi slår teltene op sammen\, laver aftensmad\, hygger i t
 eltene og leger på  \ngrunden. Om aftenen er der lejrbål med sange og le
 jrbålssnack\, før vi  \nlægger os til at sove i teltene.\nNæste morgen
  er der morgenmad og nedtagning af telte.\n\n*\n*\n\nVi er færdige og kan
  hentes igen lørdag 14. juni 2025 kl. 9.00.\n\n*\n*\n\nTilmeld jer her se
 nest torsdag 12. juni via hjemmesiden.\n\n*\n*\n\nVi glæder os til en hyg
 gelig overnatning på spejdergrunden\n\nSpejderhilsen fra Minilederne\n\nP
 akkeliste til overnatning i telt:\n\n\n * Sovepose\n   \n * Liggeunderlag\
 n   \n * Evt. sovedyr eller lille hovedpude\n   \n * Nattøj\n   \n * Uldt
 øj\n   \n * Pandelampe/Lommelygte\n   \n * Toiletgrej\n   \n * Håndklæd
 e\n   \n * Skiftetøj\n   \n * Varm trøje\n   \n * Regntøj \n   \n * B
 ålkappe\, hvis du har en\n   \n * Uniform og tørklæde\n   \n\n\n
URL:https://blackfoot.dk/index%2Ephp/begivenhed/mini-overnatning-paa-spejde
 rgrunden
DTSTART:20250613T140000Z
DTEND:20250614T070000Z
LOCATION:Blackfoot Bloustrød\, Sandholmgårdsvej 29\, 3450 Allerød
END:VEVENT
BEGIN:VEVENT
UID:gruppeweb.dk:1304:event:1218
DTSTAMP:20260420T161214Z
LAST-MODIFIED:20250615T125859Z
SUMMARY:Sankt Hans på Spejdergrunden
DESCRIPTION:\nDa Sankt Hans i år falder på en mandag\, har vi besluttet a
 t vi i holder  \nsommerafslutning med Sankt Hans. Og det betyder at alle s
 pejdere kan  \ninvitere *hele* deres familie ned på grunden til en gang
  hygge om bålet.\n\nDet vil være et fælles arrangement for Mikro'er og 
 Mini'er\, fra kl 16.30  \ntil 18.30 ved Skovmarkshytten.\n\nDer vil være 
 mulighed for at købe pølser\, saftevand og snobrød til  \narrangement\,
  men for at vi ved hvor mange vi skal forberede til\, vil vi gerne  \nhave
  en forhåndstilmelding med hvor mange I regner med at deltage.\n\nNår al
 le har fået lidt mad indenbords\, vil vi stå for et traditionelt  \nspej
 der-lejrbål\, så alle kan opleve hvad sådan et indebærer\, og spejdern
 e  \nvil også modtage deres "årsstjerner". \n\nSå kom frisk\, med somm
 er humør og det gode vejr\, og vær med til at sige  \ntak for dette års
  spejder. \n\n
URL:https://blackfoot.dk/index%2Ephp/begivenhed/sankt-hans-paa-spejdergrund
 en
DTSTART:20250623T143000Z
DTEND:20250623T163000Z
LOCATION:Blackfoot Bloustrød\, Sandholmgårdsvej 29\, 3450 Allerød
END:VEVENT
BEGIN:VEVENT
UID:gruppeweb.dk:1304:event:1194
DTSTAMP:20260420T161214Z
LAST-MODIFIED:20250529T130620Z
SUMMARY:Sommerlejr 2025 på THURØBUND
DESCRIPTION:Kære alle mikro\, mini\, junior og\ntrops-spejdere\n\n\nVi\nin
 viterer jer til sommerlejr på THURØBUND SPEJDERCENTER på Thurø syd for
 \nSvendborg. Thurøbund er Danmarks eneste sejlende spejdercenter.\n\n\nVi
 \nvil gerne give alle Blackfoot spejdere denne unikke spejderoplevelse\, a
 t\ntilbringe årets sommerlejr på et spejdercenter specialiseret  i sejl
 ads.  \nSpejdercenterets aktiviteter er\ntilrettelagt så hverken spejdere
  eller ledere behøver at have kendskab til  \nat\nsejle i forvejen. Cente
 rets dygtige medarbejdere instruerer og hjælper til  \nmed\nsejladsen. Se
  mere på  www.tsc.dk [1]\n\n\n\nEn center sommerlejr er en uge med spæn
 dende aktiviteter\, fælles  \narrangementer og mulighed for at møde nye 
 spejdervenner fra andre  \nspejdergrupper i Danmark. Udover sejlads og van
 daktiviteter skal vi opbygge  \nlejrplads\, sove i telt og lave god mad p
 å bål. Om aftenen er der hygge og  \nlejrbål sammen med de mange andre 
 spejdere på lejren og i kiosken kan du  \nkøbe snacks og slik.\nVi glæd
 er os rigtig meget.\nSpejderhilsen fra alle lederne\n\n\n\n[1] http://www.
 tsc.dk/\n
URL:https://blackfoot.dk/index%2Ephp/begivenhed/sommerlejr-2025-paa-thuroeb
 und
DTSTART:20250705T070000Z
DTEND:20250709T140000Z
LOCATION:Thurøbund Spejdercenter\, Grastenvej 204C\, 5700 Svendborg
END:VEVENT
BEGIN:VEVENT
UID:gruppeweb.dk:1304:event:1223
DTSTAMP:20260420T161214Z
LAST-MODIFIED:20250910T191522Z
SUMMARY:Allerødlejr 2025
DESCRIPTION:Kære spejder!\n\n\n\n\nFor to år siden holdt vi en super fæl
 les spejderweekend for alle spejdere i  \nAllerød Kommune og nu gør vi d
 et igen. Vi skal mødes med vores venner fra  \nde andre spejdergrupper og
  have en sjov\, aktiv og hyggelig weekend. Vi skal  \nopleve\, hvordan man
 ge spejdere sammen kan få en weekend til at bliver fyldt  \nmed sjove og 
 udfordrende oplevelser i naturen krydret med lejrbål\, sang og  \nhygge -
  på en en bæredygtigt og klimavenligt måde. Og det er jo helt  \nperfek
 t\, at vi til sommer skal bo i lejr på Spejdernes Lejr netop med alle  \n
 spejderne fra Allerød Kommune. Fedt.  Se mere i vedhæftede invitation  
 \n:-) \n\n\n\n
URL:https://blackfoot.dk/index%2Ephp/begivenhed/alleroedlejr-2025
DTSTART:20250912T160000Z
DTEND:20250914T100000Z
LOCATION:Blackfoot Bloustrød\, Sandholmgårdsvej 29\, 3450 Allerød
END:VEVENT
BEGIN:VEVENT
UID:gruppeweb.dk:1304:event:1246
DTSTAMP:20260420T161214Z
LAST-MODIFIED:20251105T145605Z
SUMMARY:Yp og Ypp - Hvor er Yppp? Mikro-Mini Tur 2025 (Mini)
DESCRIPTION:De to ypperste præster fra Hawaii\, der kun nød og næppe und
 veg katastrofen  \nmed vulkanen i sommers\, er draget ud for at finde Yppp
  og bogen med alle  \nritualerne. De har ikke hørt eller set fra Yppp i f
 lere år\, men mangler  \nderes makker til at sikre sig at vulkanen forhol
 der sig i ro. Rygtet vil vide  \nat Yppp sidste er set på vej mod det kol
 de nord\, og Danmark. De har sendt  \ndette brev:\n\n\nKære Spejdere\,\n\
 nVi skriver for at fortælle jer at vi\, Yp og Ypp\, drager af sted mod no
 rd.  \nSom I måske kan huske fra i sommers\, så var det nær gået galt 
 med  \nvulkanen og ofringen… Nu drager vi ud for at lede efter Yppp\, i 
 håbet om  \nat bogen med ritualer er i Yppp’s besiddelse. Vi har hørt 
 at Yppp sidst er  \nset omkring Gilwell Hytten ved Store Donsedam\, og vil
  derfor høre om I kunne  \ntænke jer at hjælpe os med at finde ham? Vi 
 kommer dertil om mange måner\,  \nog håber at I står klar.\n\nDe ypperl
 igste hilsner\,\nYp og Ypp.\n\nSå kom til Gillwell Hytten fredag d. 7. n
 ovember.\nMinierne starter fredag med aftensmad og hygge i soveposer på m
 adrasser til  \nfilm om aftenen.\nLørdag morgen planlægger minierne akti
 viteter til mikroerne og tager imod  \nmikrospejderne\, når de ankommer t
 il hytten. \nSå tilmeld dig nu til en fantastisk weekend med alle dine s
 pejderkammerater  \nhos både mikro- og minispejderne i Blackfoot.\nHvis I
  har nogen spørgsmål til turen eller andre henvendelser\, kontakt  \nPer
 nille på 28939146.\n\n\n\n\n\n\n
URL:https://blackfoot.dk/index%2Ephp/begivenhed/yp-og-ypp-hvor-er-yppp-mikr
 o-mini-tur-2025-mini
DTSTART:20251107T163000Z
DTEND:20251109T090000Z
LOCATION:Gilwell hytten\, Hartvig-Møllers Vej 3\, 2970 Hørsholm
END:VEVENT
BEGIN:VEVENT
UID:gruppeweb.dk:1304:event:1295
DTSTAMP:20260420T161214Z
LAST-MODIFIED:20260414T191846Z
SUMMARY:Hyttedag
DESCRIPTION:\n
URL:https://blackfoot.dk/index%2Ephp/begivenhed/hyttedag-0
DTSTART:20260510T080000Z
DTEND:20260510T120000Z
LOCATION:Blackfoot Bloustrød\, Sandholmgårdsvej 29\, 3450 Allerød
END:VEVENT
BEGIN:VEVENT
UID:gruppeweb.dk:1304:event:1291
DTSTAMP:20260420T161214Z
LAST-MODIFIED:20260323T081415Z
SUMMARY:Shelter-overnatnings-kursus (voksenspejd)
DESCRIPTION:Har du lyst til mere udeliv – men mangler modet eller erfarin
 gen? Elsker du  \nnaturen\, men får den måske ikke brugt helt så meget\
 , som du kunne tænke  \ndig?\n\n\nEr du voksen\, og drømmer du om shelte
 rtur\, bålmad og hyggelige aftener i  \ndet fri – men har ikke helt få
 et taget springet?Vi er en gruppe voksne  \nledere fra Blackfoot Blovstrø
 d\, som gerne vil hjælpe andre voksne i gang  \nmed friluftslivet. Du beh
 øver hverken at have været spejder eller at blive  \ndet. Vi planlægger
  et kursusforløb med 3 hverdagsaftener i foråret\, hvor  \nvi lærer de 
 grundlæggende færdigheder – og afslutter med en hyggelig  \nshelterove
 rnatning med bål og god mad.\nKunne det være noget for dig?\n\nLæs hele
  invitationen tilgængelig som PDF-fil til højre 👉\n\n
URL:https://blackfoot.dk/index%2Ephp/begivenhed/shelter-overnatnings-kursus
 -voksenspejd
DTSTART:20260529T150000Z
DTEND:20260530T080000Z
LOCATION:Blackfoot Bloustrød\, Sandholmgårdsvej 29\, 3450 Allerød
END:VEVENT
BEGIN:VEVENT
UID:gruppeweb.dk:1304:event:1293
DTSTAMP:20260420T161214Z
LAST-MODIFIED:20260323T202537Z
SUMMARY:[Mini] Oak City Rally 2026
DESCRIPTION:*Kom med til Oak City Rally\, *der er verdens største sæbekas
 seløb som i  \når afholdes for 51. gang. Sidste år var der mere end 200
  sæbekassebiler  \nmed i løbet. Løbet er 10 km langt og starter ved Far
 um Station hvorfra det  \ngår gennem et smukt landskab og skov indtil må
 lstregen på Egemose Centret.  \nDet er et sjovt løb med festlig stemning
  og flotte sæbekassebiler og  \nløbere. \n\nEt sæbekassebilhold bestå
 r af fire-fem spejdere. Én spejder\, der sidder i  \nvognen og styrer og 
 tre-fire til at skubbe. Man bytter selvfølgelig plads  \nundervejs\, og d
 er vil være selvvalgte snacks- og drikkepauser. Voksne må  \nikke hjælp
 e med at skubbe sæbekassebilen. \n\nDer løber en leder med på hele rut
 en ved hver Mini-sæbekassebil.\n\n*Tilmelding til Oak City 2025 senest de
 n 19. april 2026.*\n\nProgram for løbet: \n\nKl. 08.30 Vi mødes ved Sko
 vmarkshytten i Blovstrød. Kører sæbekassebiler  \npå trailer og derfra
  er der fælleskørsel til Farum Station\n\nKl. 09.45 Løbskontoret lukker
  for tjek-ind\nKl. 09.50 Alle vogne er på plads ved Farum Station\nKl. 10
 .00 Første start – efterfølgende start er hvert 2. minut for de 10  \n
 første starter\nKl. 10.45 Forventet ankomst af første vogn på Egemose C
 entret\nKl. 11.00 Boderne åbner på Egemose Centret\nKl. 13.00 Registreri
 ng af løbstider ophører\nKl. 14.00 Afslutning og præmieoverrækkelse 
 – resultatlister ophænges\nKl. 14.30 Vi er helt færdige og spejderne k
 an hentes på Egemose Centret. I  \nskal selv hente jeres barn på Egemose
 n eller arrangere samkørsel med andre.\n\n*\n*På Egemose Centret laver v
 i en Blackfoot-base\, der markeres med et  \nstrandflag. Når spejderne l
 øbende kommer i mål\, vil vi mødes i basen.  \nAlle deltagere får en i
 s og et Oak City mærke til uniformen. Hvis I ønsker  \nat købe andet ma
 d eller snacks på Egemose Centret\, skal I selv have penge  \nmed. Det er
  fx muligt at købe tryk på t-shirts for 20 kr. Husk selv at  \nmedbringe
  en t-shirt og penge. Forældre og søskende er meget velkomne til  \nat h
 eppe på ruten eller til at stå i målområdet og være i  \nBlackfoot-ba
 sen.\n\nPakkeliste:\n\nTurtaske med drikkedunk\, madpakke\, gode snacks ti
 l turen\, sko du kan løbe i\,  \nspejdertørklæde og tøj efter vejret f
 x kasket og solcreme eller  \nregntøj. \n\n*\n*Det koster 50kr pr. spejd
 er at deltage. \nLink til praktisk information om Oak City\, samt rute og
  parkering ved Egemose  \nCentret: Forældre info [1] \n\nP-billet koste
 r 25 kr. ved Egemose Centret.\n\nVi glæder os til et festligt spejderløb
 \n\n\nSpejderhilsen fra Mini-lederteamet\n\n\n[1] https://oakcityrally.dk/
 foraeldre-info\n
URL:https://blackfoot.dk/index%2Ephp/begivenhed/mini-oak-city-rally-2026
DTSTART:20260531T063000Z
DTEND:20260531T123000Z
LOCATION:Blackfoot Bloustrød\, Sandholmgårdsvej 29\, 3450 Allerød
END:VEVENT
BEGIN:VEVENT
UID:gruppeweb.dk:1304:event:1259
DTSTAMP:20260420T161214Z
LAST-MODIFIED:20260223T210222Z
SUMMARY:[Mikro\, Mini] Spejdernes Lejr 2026 - Halv lejr
DESCRIPTION:\n\nTil sommer flytter 30.000 spejdere fra Danmark og udlandet
  til Hedeland  \nNaturpark v. Roskilde\n\n\nBLACKFOOT SKAL MED!\n\nDet b
 liver sjovt og en spejderoplevelse for livet. I kan godt begynde at  \ngl
 æde jer.\n\nFamilie\, mikroer og minier deltager på halv lejr\, mens j
 uniorer\, trop og  \nklan deltager på den fulde lejr.\n\n\nBlackfoot give
 r et godt tilskud til alle spejdere\, der kommer med\, så nu  \nfår I ig
 en noget for alle jeres spildop-tjanser.\n\n\nDer vil blive fælles trans
 port med busser til/fra lejren. Vi har ikke  \npræcise tidspunkter endnu\
 , men det kommer.\n\n\nVi holder et informationsmøde for alle inden lejre
 n.\n\nHer kigger vi også nærmere på pakkelister\, bustransport mm.\nTil
 melding senest 1. februar 2026 \n\n\nVi glæder os så meget\n\nSpejderhi
 lsen fra alle lederne i Blackfoot Spejdergruppe\n\n
URL:https://blackfoot.dk/index%2Ephp/begivenhed/mikro-mini-spejdernes-lejr-
 2026-halv-lejr
DTSTART:20260722T080000Z
DTEND:20260726T140000Z
LOCATION:Hedeland Naturpark\, Tranemosevej 2\, 2640 Hedehusene
END:VEVENT
END:VCALENDAR
